BEGIN:VCALENDAR
VERSION:2.0
PRODID:-//hacksw/handcal//NONSGML v1.0//EN
BEGIN:VEVENT
SUMMARY:Sortie Centre Subaquatique de La gaule
UID:f0731cfd-430c-4a2a-931d-7f23f60caee5
DTSTART:20260314T083000Z
DTEND:20260314T153000Z
LOCATION:Localisation   
CATEGORIES:Formation
STATUS:
URL;VALUE=URI:https://bullesplongeeissoudun.sportsregions.fr/evenements/2026/03/14/sortie-centre-subaquatique-de-la-gaule-2425496
END:VEVENT
END:VCALENDAR
